BEGIN:VCALENDAR
VERSION:2.0
PRODID:-//hacksw/handcal//NONSGML v1.0//EN
BEGIN:VEVENT
SUMMARY:Soiree projection et debat consacree a la lutte contre les violences sexuelles et sexisme dans le sport. A la MDS.
UID:09a8c03e-42b7-441b-b5d0-6b2e48990843
DTSTART:20260424T163000Z
DTEND:20260424T190000Z
LOCATION:Localisation   
CATEGORIES:Sportif
STATUS:
URL;VALUE=URI:https://www.badminton37.org/evenements/2026/04/24/soiree-projection-et-debat-consacree-a-la-lutte-contre-les-violences-sexuelles-et-sexisme-dans-le-sport-a-la-mds-2443606
END:VEVENT
END:VCALENDAR
