BEGIN:VCALENDAR
VERSION:2.0
PRODID:-//hacksw/handcal//NONSGML v1.0//EN
BEGIN:VEVENT
SUMMARY:FOIRE DE TOURS
UID:7e61561d-0aa9-4323-9bc0-4bf865afbcfd
DTSTART:20260501T080000Z
DTEND:20260503T180000Z
LOCATION:Localisation   
CATEGORIES:Manifestation
STATUS:
URL;VALUE=URI:https://www.badminton37.org/evenements/2026/05/01/foire-de-tours-2443608
END:VEVENT
END:VCALENDAR
